BEGIN:VCALENDAR
VERSION:2.0
PRODID:-//Verband SonderpÃ¤dagogik - ECPv6.15.17.1//NONSGML v1.0//EN
CALSCALE:GREGORIAN
METHOD:PUBLISH
X-ORIGINAL-URL:https://vdsniedersachsen.de
X-WR-CALDESC:Veranstaltungen fÃ¼r Verband SonderpÃ¤dagogik
REFRESH-INTERVAL;VALUE=DURATION:PT1H
X-Robots-Tag:noindex
X-PUBLISHED-TTL:PT1H
BEGIN:VTIMEZONE
TZID:Europe/Berlin
BEGIN:DAYLIGHT
TZOFFSETFROM:+0100
TZOFFSETTO:+0200
TZNAME:CEST
DTSTART:20170326T010000
END:DAYLIGHT
BEGIN:STANDARD
TZOFFSETFROM:+0200
TZOFFSETTO:+0100
TZNAME:CET
DTSTART:20171029T010000
END:STANDARD
BEGIN:DAYLIGHT
TZOFFSETFROM:+0100
TZOFFSETTO:+0200
TZNAME:CEST
DTSTART:20180325T010000
END:DAYLIGHT
BEGIN:STANDARD
TZOFFSETFROM:+0200
TZOFFSETTO:+0100
TZNAME:CET
DTSTART:20181028T010000
END:STANDARD
BEGIN:DAYLIGHT
TZOFFSETFROM:+0100
TZOFFSETTO:+0200
TZNAME:CEST
DTSTART:20190331T010000
END:DAYLIGHT
BEGIN:STANDARD
TZOFFSETFROM:+0200
TZOFFSETTO:+0100
TZNAME:CET
DTSTART:20191027T010000
END:STANDARD
END:VTIMEZONE
BEGIN:VEVENT
DTSTART;TZID=Europe/Berlin:20180922T090000
DTEND;TZID=Europe/Berlin:20180922T160000
DTSTAMP:20260421T080938
CREATED:20180616T080728Z
LAST-MODIFIED:20180616T082309Z
UID:946-1537606800-1537632000@vdsniedersachsen.de
SUMMARY:2. Fachkongress Inklusion
DESCRIPTION:2018_Flyer_Fachkongress_Inklusion \n  \n 
URL:https://vdsniedersachsen.de/veranstaltung/2-fachkongress-inklusion/
LOCATION:Kardinal-von-Galen-Haus\, SchulstraÃŸe 7\, Dinklage\, 49414
END:VEVENT
BEGIN:VEVENT
DTSTART;TZID=Europe/Berlin:20180927T090000
DTEND;TZID=Europe/Berlin:20180927T170000
DTSTAMP:20260421T080938
CREATED:20180610T172259Z
LAST-MODIFIED:20180610T173410Z
UID:902-1538038800-1538067600@vdsniedersachsen.de
SUMMARY:Landesverbandstag
DESCRIPTION:Liebe Mitglieder des VDS\, liebe Kolleg*innen\, \nder VDS-Bezirksverband Hannover lÃ¤dt Sie und euch herzlich zum VDS-Landesverbandstag am 27.09.2018 nach Hannover ein! \nWir freuen uns Sie und euch in Hannover begrÃ¼ÃŸen zu dÃ¼rfen! \nProgramm und Ablauf des VDS-Landesverbandstags: \n\n\n\n09:00\nAnkommen & Anmeldung\n\n\n10:00\nOpener: Ninia LaGrande (Bloggerin & Slammerin) \nBegrÃ¼ÃŸung durch den Landesvorsitzenden\, Reinhard Fricke \nRede des NiedersÃ¤chsischen Kultusministers Grant Hendrik Tonne \nBegrÃ¼ÃŸung durch den VDS-Bezirksverband Hannover\, Tina Albers\n\n\n11:00\nErÃ¶ffnungsvortrag: â€žÃœbergÃ¤nge gestalten â€“ Defizitzuschreibungen Ã¼berwindenâ€œ (Prof. Dr. Bettina Lindmeier\, Leibniz UniversitÃ¤t Hannover)\n\n\n12:00\nMittagspause in der Mensa oder den umliegenden Restaurants\n\n\n13:30\nWorkshop-Phase I\n\n\n15:00\nKaffeepause\n\n\n15:30\nWorkshop-Phase II\n\n\n17:00\nEnde der Veranstaltung
URL:https://vdsniedersachsen.de/veranstaltung/landesverbandstag/
LOCATION:SchloÃŸwender Str. 1\, 30159 Hannover\, SchloÃŸwender Str. 1\, 30159 Hannover\, Deutschland
END:VEVENT
END:VCALENDAR