BEGIN:VCALENDAR
VERSION:2.0
PRODID:-//Verband Sonderpädagogik - ECPv6.15.17.1//NONSGML v1.0//EN
CALSCALE:GREGORIAN
METHOD:PUBLISH
X-ORIGINAL-URL:https://vdsniedersachsen.de
X-WR-CALDESC:Veranstaltungen für Verband Sonderpädagogik
REFRESH-INTERVAL;VALUE=DURATION:PT1H
X-Robots-Tag:noindex
X-PUBLISHED-TTL:PT1H
BEGIN:VTIMEZONE
TZID:Europe/Berlin
BEGIN:DAYLIGHT
TZOFFSETFROM:+0100
TZOFFSETTO:+0200
TZNAME:CEST
DTSTART:20170326T010000
END:DAYLIGHT
BEGIN:STANDARD
TZOFFSETFROM:+0200
TZOFFSETTO:+0100
TZNAME:CET
DTSTART:20171029T010000
END:STANDARD
BEGIN:DAYLIGHT
TZOFFSETFROM:+0100
TZOFFSETTO:+0200
TZNAME:CEST
DTSTART:20180325T010000
END:DAYLIGHT
BEGIN:STANDARD
TZOFFSETFROM:+0200
TZOFFSETTO:+0100
TZNAME:CET
DTSTART:20181028T010000
END:STANDARD
BEGIN:DAYLIGHT
TZOFFSETFROM:+0100
TZOFFSETTO:+0200
TZNAME:CEST
DTSTART:20190331T010000
END:DAYLIGHT
BEGIN:STANDARD
TZOFFSETFROM:+0200
TZOFFSETTO:+0100
TZNAME:CET
DTSTART:20191027T010000
END:STANDARD
END:VTIMEZONE
BEGIN:VEVENT
DTSTART;TZID=Europe/Berlin:20180822T153000
DTEND;TZID=Europe/Berlin:20180822T173000
DTSTAMP:20260421T091914
CREATED:20180812T152201Z
LAST-MODIFIED:20180812T152201Z
UID:965-1534951800-1534959000@vdsniedersachsen.de
SUMMARY:IGS Stade – auf dem Weg zu einer inklusiven Schule
DESCRIPTION:Die IGS Stade existiert inzwischen seit neun Jahren. Auf dem Weg zu einer inklusiven Schule wurden seit der Schulgründung viele Unternehmungen initiiert und z.T. bereits evaluiert. In der Veranstaltung soll der derzeitige Stand an der Schule dargestellt werden. Dabei stehen die grundsätzlichen Organisationsformen wie die Arbeit im Lernbüro und das Prinzip der festen Tischgruppen sowie die damit verbundene Elternarbeit im Mittelpunkt. Dies geschieht unter besonderer Berücksichtigung einer inklusiven Bildung und Erziehung von Schülerinnen und Schülern mit einem Bedarf an sonderpädagogischer Unterstützung. \nReferent: \nOlaf Cegan\, Förderschullehrer an der IGS Stade \nDie Teilnahme an der Veranstaltung ist kostenfrei\, sie ist offen für alle Lehrkräfte im Vorbereitungsdienst der Lüneburger Studienseminare\, für Mitglieder des vds/Verband Sonderpädagogik und andere Interessierte. Um eine Anmeldung per Mail wird freundlich gebeten\, sie erleichtern damit die Planung dieser Veranstaltung: \nManfred.Neumann@seminar-lg-so.niedersachsen.de
URL:https://vdsniedersachsen.de/veranstaltung/igs-stade-auf-dem-weg-zu-einer-inklusiven-schule/
LOCATION:IGS Stade\, Am Hohen Felde 40\, 21682 Stade\, Niedersachsen\, Deutschland
END:VEVENT
END:VCALENDAR