BEGIN:VCALENDAR
VERSION:2.0
PRODID:-//Verband Sonderpädagogik - ECPv6.15.17.1//NONSGML v1.0//EN
CALSCALE:GREGORIAN
METHOD:PUBLISH
X-WR-CALNAME:Verband Sonderpädagogik
X-ORIGINAL-URL:https://vdsniedersachsen.de
X-WR-CALDESC:Veranstaltungen für Verband Sonderpädagogik
REFRESH-INTERVAL;VALUE=DURATION:PT1H
X-Robots-Tag:noindex
X-PUBLISHED-TTL:PT1H
BEGIN:VTIMEZONE
TZID:Europe/Berlin
BEGIN:DAYLIGHT
TZOFFSETFROM:+0100
TZOFFSETTO:+0200
TZNAME:CEST
DTSTART:20190331T010000
END:DAYLIGHT
BEGIN:STANDARD
TZOFFSETFROM:+0200
TZOFFSETTO:+0100
TZNAME:CET
DTSTART:20191027T010000
END:STANDARD
BEGIN:DAYLIGHT
TZOFFSETFROM:+0100
TZOFFSETTO:+0200
TZNAME:CEST
DTSTART:20200329T010000
END:DAYLIGHT
BEGIN:STANDARD
TZOFFSETFROM:+0200
TZOFFSETTO:+0100
TZNAME:CET
DTSTART:20201025T010000
END:STANDARD
BEGIN:DAYLIGHT
TZOFFSETFROM:+0100
TZOFFSETTO:+0200
TZNAME:CEST
DTSTART:20210328T010000
END:DAYLIGHT
BEGIN:STANDARD
TZOFFSETFROM:+0200
TZOFFSETTO:+0100
TZNAME:CET
DTSTART:20211031T010000
END:STANDARD
END:VTIMEZONE
BEGIN:VEVENT
DTSTART;VALUE=DATE:20200305
DTEND;VALUE=DATE:20200306
DTSTAMP:20260420T111011
CREATED:20200112T074216Z
LAST-MODIFIED:20200112T074216Z
UID:1382-1583366400-1583452799@vdsniedersachsen.de
SUMMARY:Fachtag "Wenn dir Hören und Sehen vergeht"
DESCRIPTION:Fachtag zum Thema &#8222;Wenn dir Hören und Sehen vergeht!&#8220;\nmit Christiane van Lohuizen und Jens Schönfelder \nBezirksverband Braunschweig
URL:https://vdsniedersachsen.de/veranstaltung/fachtag-wenn-dir-hoeren-und-sehen-vergeht/
END:VEVENT
END:VCALENDAR