BEGIN:VCALENDAR
VERSION:2.0
PRODID:-//Verband Sonderpädagogik - ECPv6.15.17.1//NONSGML v1.0//EN
CALSCALE:GREGORIAN
METHOD:PUBLISH
X-WR-CALNAME:Verband Sonderpädagogik
X-ORIGINAL-URL:https://vdsniedersachsen.de
X-WR-CALDESC:Veranstaltungen für Verband Sonderpädagogik
REFRESH-INTERVAL;VALUE=DURATION:PT1H
X-Robots-Tag:noindex
X-PUBLISHED-TTL:PT1H
BEGIN:VTIMEZONE
TZID:Europe/Berlin
BEGIN:DAYLIGHT
TZOFFSETFROM:+0100
TZOFFSETTO:+0200
TZNAME:CEST
DTSTART:20170326T010000
END:DAYLIGHT
BEGIN:STANDARD
TZOFFSETFROM:+0200
TZOFFSETTO:+0100
TZNAME:CET
DTSTART:20171029T010000
END:STANDARD
BEGIN:DAYLIGHT
TZOFFSETFROM:+0100
TZOFFSETTO:+0200
TZNAME:CEST
DTSTART:20180325T010000
END:DAYLIGHT
BEGIN:STANDARD
TZOFFSETFROM:+0200
TZOFFSETTO:+0100
TZNAME:CET
DTSTART:20181028T010000
END:STANDARD
BEGIN:DAYLIGHT
TZOFFSETFROM:+0100
TZOFFSETTO:+0200
TZNAME:CEST
DTSTART:20190331T010000
END:DAYLIGHT
BEGIN:STANDARD
TZOFFSETFROM:+0200
TZOFFSETTO:+0100
TZNAME:CET
DTSTART:20191027T010000
END:STANDARD
END:VTIMEZONE
BEGIN:VEVENT
DTSTART;TZID=Europe/Berlin:20181127T160000
DTEND;TZID=Europe/Berlin:20181127T173000
DTSTAMP:20260421T054036
CREATED:20181105T053055Z
LAST-MODIFIED:20181105T053055Z
UID:1083-1543334400-1543339800@vdsniedersachsen.de
SUMMARY:Das SPZ stellt sich vor
DESCRIPTION:Dr. Uta Ungermann & Team geben Einblicke in die Arbeit des SPZ (Sozialpädiatrisches Zentrum) Osnabrück. Zunächst werden u.a. die Themenbereiche Diagnostik\, Beratung und Vernetzung mit Eltern und Schule sowie der Umgang mit Berichten vorgestellt. Anschließend gibt es die Gelegenheit\, offeneFragen zu stellen und sich auszutauschen. \nvds-RV Os &#8211; Einladung Das SPZ stellt sich vor
URL:https://vdsniedersachsen.de/veranstaltung/das-spz-stellt-sich-vor/
LOCATION:Schule in der Dodesheide\, Bassumer Str. 1\, Osnabrück\, 49088
END:VEVENT
END:VCALENDAR