BEGIN:VCALENDAR
VERSION:2.0
PRODID:-//Verband Sonderpädagogik - ECPv6.15.17.1//NONSGML v1.0//EN
CALSCALE:GREGORIAN
METHOD:PUBLISH
X-ORIGINAL-URL:https://vdsniedersachsen.de
X-WR-CALDESC:Veranstaltungen für Verband Sonderpädagogik
REFRESH-INTERVAL;VALUE=DURATION:PT1H
X-Robots-Tag:noindex
X-PUBLISHED-TTL:PT1H
BEGIN:VTIMEZONE
TZID:Europe/Berlin
BEGIN:DAYLIGHT
TZOFFSETFROM:+0100
TZOFFSETTO:+0200
TZNAME:CEST
DTSTART:20140330T010000
END:DAYLIGHT
BEGIN:STANDARD
TZOFFSETFROM:+0200
TZOFFSETTO:+0100
TZNAME:CET
DTSTART:20141026T010000
END:STANDARD
BEGIN:DAYLIGHT
TZOFFSETFROM:+0100
TZOFFSETTO:+0200
TZNAME:CEST
DTSTART:20150329T010000
END:DAYLIGHT
BEGIN:STANDARD
TZOFFSETFROM:+0200
TZOFFSETTO:+0100
TZNAME:CET
DTSTART:20151025T010000
END:STANDARD
BEGIN:DAYLIGHT
TZOFFSETFROM:+0100
TZOFFSETTO:+0200
TZNAME:CEST
DTSTART:20160327T010000
END:DAYLIGHT
BEGIN:STANDARD
TZOFFSETFROM:+0200
TZOFFSETTO:+0100
TZNAME:CET
DTSTART:20161030T010000
END:STANDARD
END:VTIMEZONE
BEGIN:VEVENT
DTSTART;VALUE=DATE:20151119
DTEND;VALUE=DATE:20151122
DTSTAMP:20260423T060203
CREATED:20150629T185927Z
LAST-MODIFIED:20150629T185927Z
UID:300-1447891200-1448150399@vdsniedersachsen.de
SUMMARY:Bundeshauptversammunlung in Berlin
DESCRIPTION:
URL:https://vdsniedersachsen.de/veranstaltung/bundeshauptversammunlung-in-berlin/
END:VEVENT
END:VCALENDAR